BEGIN:VCALENDAR
VERSION:2.0
PRODID:-//Southmoreland on the Plaza - ECPv6.15.20//NONSGML v1.0//EN
CALSCALE:GREGORIAN
METHOD:PUBLISH
X-ORIGINAL-URL:https://southmoreland.com
X-WR-CALDESC:Events for Southmoreland on the Plaza
REFRESH-INTERVAL;VALUE=DURATION:PT1H
X-Robots-Tag:noindex
X-PUBLISHED-TTL:PT1H
BEGIN:VTIMEZONE
TZID:UTC
BEGIN:STANDARD
TZOFFSETFROM:+0000
TZOFFSETTO:+0000
TZNAME:UTC
DTSTART:20250101T000000
END:STANDARD
END:VTIMEZONE
BEGIN:VEVENT
DTSTART;TZID=UTC:20260322T170000
DTEND;TZID=UTC:20260322T170000
DTSTAMP:20260425T015310
CREATED:20260223T100430Z
LAST-MODIFIED:20260223T100430Z
UID:6042-1774198800-1774198800@southmoreland.com
SUMMARY:Manor Records – Songbird Sessions
DESCRIPTION:
URL:https://southmoreland.com/event/manor-records-songbird-sessions-12/
END:VEVENT
BEGIN:VEVENT
DTSTART;TZID=UTC:20260327T000000
DTEND;TZID=UTC:20260327T000000
DTSTAMP:20260425T015310
CREATED:20260223T100200Z
LAST-MODIFIED:20260223T100200Z
UID:5982-1774569600-1774569600@southmoreland.com
SUMMARY:Planet Comicon Kansas City (Mar 27–29)
DESCRIPTION:
URL:https://southmoreland.com/event/planet-comicon-kansas-city-mar-27-29/
END:VEVENT
BEGIN:VEVENT
DTSTART;TZID=UTC:20260329T170000
DTEND;TZID=UTC:20260329T170000
DTSTAMP:20260425T015310
CREATED:20260223T100430Z
LAST-MODIFIED:20260223T100430Z
UID:6043-1774803600-1774803600@southmoreland.com
SUMMARY:Manor Records – Songbird Sessions
DESCRIPTION:
URL:https://southmoreland.com/event/manor-records-songbird-sessions-13/
END:VEVENT
BEGIN:VEVENT
DTSTART;TZID=UTC:20260403T180000
DTEND;TZID=UTC:20260403T180000
DTSTAMP:20260425T015310
CREATED:20260223T100430Z
LAST-MODIFIED:20260223T100430Z
UID:6044-1775239200-1775239200@southmoreland.com
SUMMARY:Crossroads First Fridays
DESCRIPTION:
URL:https://southmoreland.com/event/crossroads-first-fridays-4/
END:VEVENT
BEGIN:VEVENT
DTSTART;TZID=UTC:20260404T100000
DTEND;TZID=UTC:20260404T100000
DTSTAMP:20260425T015310
CREATED:20260223T100431Z
LAST-MODIFIED:20260223T100431Z
UID:6045-1775296800-1775296800@southmoreland.com
SUMMARY:First Saturdays in the West Bottoms
DESCRIPTION:
URL:https://southmoreland.com/event/first-saturdays-in-the-west-bottoms-4/
END:VEVENT
BEGIN:VEVENT
DTSTART;TZID=UTC:20260405T170000
DTEND;TZID=UTC:20260405T170000
DTSTAMP:20260425T015310
CREATED:20260223T100431Z
LAST-MODIFIED:20260223T100431Z
UID:6046-1775408400-1775408400@southmoreland.com
SUMMARY:Manor Records – Songbird Sessions
DESCRIPTION:
URL:https://southmoreland.com/event/manor-records-songbird-sessions-14/
END:VEVENT
BEGIN:VEVENT
DTSTART;TZID=UTC:20260412T170000
DTEND;TZID=UTC:20260412T170000
DTSTAMP:20260425T015310
CREATED:20260223T100434Z
LAST-MODIFIED:20260223T100434Z
UID:6047-1776013200-1776013200@southmoreland.com
SUMMARY:Manor Records – Songbird Sessions
DESCRIPTION:
URL:https://southmoreland.com/event/manor-records-songbird-sessions-15/
END:VEVENT
BEGIN:VEVENT
DTSTART;TZID=UTC:20260416T180000
DTEND;TZID=UTC:20260416T180000
DTSTAMP:20260425T015310
CREATED:20260223T100434Z
LAST-MODIFIED:20260223T100434Z
UID:6048-1776362400-1776362400@southmoreland.com
SUMMARY:Third Thursday at the Nelson-Atkins Museum of Art
DESCRIPTION:
URL:https://southmoreland.com/event/third-thursday-at-the-nelson-atkins-museum-of-art-4/
END:VEVENT
BEGIN:VEVENT
DTSTART;TZID=UTC:20260418T000000
DTEND;TZID=UTC:20260418T000000
DTSTAMP:20260425T015310
CREATED:20260223T100201Z
LAST-MODIFIED:20260223T100201Z
UID:5983-1776470400-1776470400@southmoreland.com
SUMMARY:NASCAR Spring Race Weekend (Kansas Speedway)
DESCRIPTION:
URL:https://southmoreland.com/event/nascar-spring-race-weekend-kansas-speedway/
END:VEVENT
BEGIN:VEVENT
DTSTART;TZID=UTC:20260419T170000
DTEND;TZID=UTC:20260419T170000
DTSTAMP:20260425T015310
CREATED:20260223T100435Z
LAST-MODIFIED:20260223T100435Z
UID:6049-1776618000-1776618000@southmoreland.com
SUMMARY:Manor Records – Songbird Sessions
DESCRIPTION:
URL:https://southmoreland.com/event/manor-records-songbird-sessions-16/
END:VEVENT
BEGIN:VEVENT
DTSTART;TZID=UTC:20260426T170000
DTEND;TZID=UTC:20260426T170000
DTSTAMP:20260425T015310
CREATED:20260223T100435Z
LAST-MODIFIED:20260223T100435Z
UID:6050-1777222800-1777222800@southmoreland.com
SUMMARY:Manor Records – Songbird Sessions
DESCRIPTION:
URL:https://southmoreland.com/event/manor-records-songbird-sessions-17/
END:VEVENT
BEGIN:VEVENT
DTSTART;TZID=UTC:20260501T000000
DTEND;TZID=UTC:20260501T000000
DTSTAMP:20260425T015310
CREATED:20260223T100201Z
LAST-MODIFIED:20260223T100201Z
UID:5984-1777593600-1777593600@southmoreland.com
SUMMARY:Brookside Art Annual (May 1–3)
DESCRIPTION:
URL:https://southmoreland.com/event/brookside-art-annual-may-1-3/
END:VEVENT
BEGIN:VEVENT
DTSTART;TZID=UTC:20260501T180000
DTEND;TZID=UTC:20260501T180000
DTSTAMP:20260425T015310
CREATED:20260223T100435Z
LAST-MODIFIED:20260223T100435Z
UID:6051-1777658400-1777658400@southmoreland.com
SUMMARY:Crossroads First Fridays
DESCRIPTION:
URL:https://southmoreland.com/event/crossroads-first-fridays-5/
END:VEVENT
BEGIN:VEVENT
DTSTART;TZID=UTC:20260502T100000
DTEND;TZID=UTC:20260502T100000
DTSTAMP:20260425T015310
CREATED:20260223T100442Z
LAST-MODIFIED:20260223T100442Z
UID:6052-1777716000-1777716000@southmoreland.com
SUMMARY:First Saturdays in the West Bottoms
DESCRIPTION:
URL:https://southmoreland.com/event/first-saturdays-in-the-west-bottoms-5/
END:VEVENT
BEGIN:VEVENT
DTSTART;TZID=UTC:20260503T170000
DTEND;TZID=UTC:20260503T170000
DTSTAMP:20260425T015310
CREATED:20260223T100442Z
LAST-MODIFIED:20260223T100442Z
UID:6053-1777827600-1777827600@southmoreland.com
SUMMARY:Manor Records – Songbird Sessions
DESCRIPTION:
URL:https://southmoreland.com/event/manor-records-songbird-sessions-18/
END:VEVENT
BEGIN:VEVENT
DTSTART;TZID=UTC:20260510T170000
DTEND;TZID=UTC:20260510T170000
DTSTAMP:20260425T015310
CREATED:20260223T100442Z
LAST-MODIFIED:20260223T100442Z
UID:6054-1778432400-1778432400@southmoreland.com
SUMMARY:Manor Records – Songbird Sessions
DESCRIPTION:
URL:https://southmoreland.com/event/manor-records-songbird-sessions-19/
END:VEVENT
BEGIN:VEVENT
DTSTART;TZID=UTC:20260511T000000
DTEND;TZID=UTC:20260511T000000
DTSTAMP:20260425T015310
CREATED:20260223T100202Z
LAST-MODIFIED:20260223T100202Z
UID:5985-1778457600-1778457600@southmoreland.com
SUMMARY:UMKC Spring Semester Ends
DESCRIPTION:
URL:https://southmoreland.com/event/umkc-spring-semester-ends/
END:VEVENT
BEGIN:VEVENT
DTSTART;TZID=UTC:20260516T173000
DTEND;TZID=UTC:20260516T173000
DTSTAMP:20260425T015310
CREATED:20260223T100443Z
LAST-MODIFIED:20260223T100443Z
UID:6055-1778952600-1778952600@southmoreland.com
SUMMARY:Grinders KC: Dayseeker - The Pale Moonlight Tour
DESCRIPTION:
URL:https://southmoreland.com/event/grinders-kc-dayseeker-the-pale-moonlight-tour/
END:VEVENT
BEGIN:VEVENT
DTSTART;TZID=UTC:20260517T170000
DTEND;TZID=UTC:20260517T170000
DTSTAMP:20260425T015310
CREATED:20260223T100443Z
LAST-MODIFIED:20260223T100443Z
UID:6056-1779037200-1779037200@southmoreland.com
SUMMARY:Manor Records – Songbird Sessions
DESCRIPTION:
URL:https://southmoreland.com/event/manor-records-songbird-sessions-20/
END:VEVENT
BEGIN:VEVENT
DTSTART;TZID=UTC:20260521T180000
DTEND;TZID=UTC:20260521T180000
DTSTAMP:20260425T015310
CREATED:20260223T100445Z
LAST-MODIFIED:20260223T100445Z
UID:6057-1779386400-1779386400@southmoreland.com
SUMMARY:Third Thursday at the Nelson-Atkins Museum of Art
DESCRIPTION:
URL:https://southmoreland.com/event/third-thursday-at-the-nelson-atkins-museum-of-art-5/
END:VEVENT
BEGIN:VEVENT
DTSTART;TZID=UTC:20260524T000000
DTEND;TZID=UTC:20260524T000000
DTSTAMP:20260425T015310
CREATED:20260223T100203Z
LAST-MODIFIED:20260223T100203Z
UID:5986-1779580800-1779580800@southmoreland.com
SUMMARY:Celebration at the Station – KC Symphony & Fireworks
DESCRIPTION:
URL:https://southmoreland.com/event/celebration-at-the-station-kc-symphony-fireworks/
END:VEVENT
BEGIN:VEVENT
DTSTART;TZID=UTC:20260524T170000
DTEND;TZID=UTC:20260524T170000
DTSTAMP:20260425T015310
CREATED:20260223T100445Z
LAST-MODIFIED:20260223T100445Z
UID:6058-1779642000-1779642000@southmoreland.com
SUMMARY:Manor Records – Songbird Sessions
DESCRIPTION:
URL:https://southmoreland.com/event/manor-records-songbird-sessions-21/
END:VEVENT
BEGIN:VEVENT
DTSTART;TZID=UTC:20260531T170000
DTEND;TZID=UTC:20260531T170000
DTSTAMP:20260425T015310
CREATED:20260223T100445Z
LAST-MODIFIED:20260223T100445Z
UID:6059-1780246800-1780246800@southmoreland.com
SUMMARY:Manor Records – Songbird Sessions
DESCRIPTION:
URL:https://southmoreland.com/event/manor-records-songbird-sessions-22/
END:VEVENT
BEGIN:VEVENT
DTSTART;TZID=UTC:20260605T180000
DTEND;TZID=UTC:20260605T180000
DTSTAMP:20260425T015310
CREATED:20260223T100446Z
LAST-MODIFIED:20260223T100446Z
UID:6060-1780682400-1780682400@southmoreland.com
SUMMARY:Crossroads First Fridays
DESCRIPTION:
URL:https://southmoreland.com/event/crossroads-first-fridays-6/
END:VEVENT
BEGIN:VEVENT
DTSTART;TZID=UTC:20260606T100000
DTEND;TZID=UTC:20260606T100000
DTSTAMP:20260425T015310
CREATED:20260223T100446Z
LAST-MODIFIED:20260223T100446Z
UID:6061-1780740000-1780740000@southmoreland.com
SUMMARY:First Saturdays in the West Bottoms
DESCRIPTION:
URL:https://southmoreland.com/event/first-saturdays-in-the-west-bottoms-6/
END:VEVENT
BEGIN:VEVENT
DTSTART;TZID=UTC:20260607T170000
DTEND;TZID=UTC:20260607T170000
DTSTAMP:20260425T015310
CREATED:20260223T100449Z
LAST-MODIFIED:20260223T100449Z
UID:6062-1780851600-1780851600@southmoreland.com
SUMMARY:Manor Records – Songbird Sessions
DESCRIPTION:
URL:https://southmoreland.com/event/manor-records-songbird-sessions-23/
END:VEVENT
BEGIN:VEVENT
DTSTART;TZID=UTC:20260612T000000
DTEND;TZID=UTC:20260612T000000
DTSTAMP:20260425T015310
CREATED:20260223T100301Z
LAST-MODIFIED:20260223T100301Z
UID:5987-1781222400-1781222400@southmoreland.com
SUMMARY:Kansas City PrideFest (Jun 12–14)
DESCRIPTION:
URL:https://southmoreland.com/event/kansas-city-pridefest-jun-12-14/
END:VEVENT
BEGIN:VEVENT
DTSTART;TZID=UTC:20260614T000000
DTEND;TZID=UTC:20260614T000000
DTSTAMP:20260425T015310
CREATED:20260223T100302Z
LAST-MODIFIED:20260223T100302Z
UID:5988-1781395200-1781395200@southmoreland.com
SUMMARY:Future Stages Festival – Kauffman Center
DESCRIPTION:
URL:https://southmoreland.com/event/future-stages-festival-kauffman-center/
END:VEVENT
BEGIN:VEVENT
DTSTART;TZID=UTC:20260614T170000
DTEND;TZID=UTC:20260614T170000
DTSTAMP:20260425T015310
CREATED:20260223T100450Z
LAST-MODIFIED:20260223T100450Z
UID:6063-1781456400-1781456400@southmoreland.com
SUMMARY:Manor Records – Songbird Sessions
DESCRIPTION:
URL:https://southmoreland.com/event/manor-records-songbird-sessions-24/
END:VEVENT
BEGIN:VEVENT
DTSTART;TZID=UTC:20260616T000000
DTEND;TZID=UTC:20260616T000000
DTSTAMP:20260425T015310
CREATED:20260223T100302Z
LAST-MODIFIED:20260223T100302Z
UID:5989-1781568000-1781568000@southmoreland.com
SUMMARY:Heart of America Shakespeare Festival (Jun 16–Jul 5)
DESCRIPTION:
URL:https://southmoreland.com/event/heart-of-america-shakespeare-festival-jun-16-jul-5/
END:VEVENT
END:VCALENDAR