BEGIN:VCALENDAR
VERSION:2.0
PRODID:-//Southmoreland on the Plaza - ECPv6.15.20//NONSGML v1.0//EN
CALSCALE:GREGORIAN
METHOD:PUBLISH
X-WR-CALNAME:Southmoreland on the Plaza
X-ORIGINAL-URL:https://southmoreland.com
X-WR-CALDESC:Events for Southmoreland on the Plaza
REFRESH-INTERVAL;VALUE=DURATION:PT1H
X-Robots-Tag:noindex
X-PUBLISHED-TTL:PT1H
BEGIN:VTIMEZONE
TZID:UTC
BEGIN:STANDARD
TZOFFSETFROM:+0000
TZOFFSETTO:+0000
TZNAME:UTC
DTSTART:20250101T000000
END:STANDARD
END:VTIMEZONE
BEGIN:VEVENT
DTSTART;TZID=UTC:20260125T000000
DTEND;TZID=UTC:20260125T000000
DTSTAMP:20260425T020944
CREATED:20260223T100136Z
LAST-MODIFIED:20260223T100136Z
UID:5974-1769299200-1769299200@southmoreland.com
SUMMARY:Spray Drone End User Conference (Jan 25–29)
DESCRIPTION:
URL:https://southmoreland.com/event/spray-drone-end-user-conference-jan-25-29/
END:VEVENT
BEGIN:VEVENT
DTSTART;TZID=UTC:20260121T000000
DTEND;TZID=UTC:20260121T000000
DTSTAMP:20260425T020944
CREATED:20260223T100136Z
LAST-MODIFIED:20260223T100136Z
UID:5973-1768953600-1768953600@southmoreland.com
SUMMARY:Kansas City Art Institute – Spring Exhibitions Begin
DESCRIPTION:
URL:https://southmoreland.com/event/kansas-city-art-institute-spring-exhibitions-begin/
END:VEVENT
BEGIN:VEVENT
DTSTART;TZID=UTC:20260120T000000
DTEND;TZID=UTC:20260120T000000
DTSTAMP:20260425T020944
CREATED:20260223T100135Z
LAST-MODIFIED:20260223T100135Z
UID:5972-1768867200-1768867200@southmoreland.com
SUMMARY:UMKC Spring Semester Begins
DESCRIPTION:
URL:https://southmoreland.com/event/umkc-spring-semester-begins/
END:VEVENT
BEGIN:VEVENT
DTSTART;TZID=UTC:20260118T170000
DTEND;TZID=UTC:20260118T170000
DTSTAMP:20260425T020944
CREATED:20260223T100336Z
LAST-MODIFIED:20260223T100336Z
UID:6011-1768755600-1768755600@southmoreland.com
SUMMARY:Manor Records – Songbird Sessions
DESCRIPTION:
URL:https://southmoreland.com/event/manor-records-songbird-sessions-3/
END:VEVENT
BEGIN:VEVENT
DTSTART;TZID=UTC:20260115T180000
DTEND;TZID=UTC:20260115T180000
DTSTAMP:20260425T020944
CREATED:20260223T100336Z
LAST-MODIFIED:20260223T100336Z
UID:6010-1768500000-1768500000@southmoreland.com
SUMMARY:Third Thursday at the Nelson-Atkins Museum of Art
DESCRIPTION:
URL:https://southmoreland.com/event/third-thursday-at-the-nelson-atkins-museum-of-art/
END:VEVENT
BEGIN:VEVENT
DTSTART;TZID=UTC:20260111T170000
DTEND;TZID=UTC:20260111T170000
DTSTAMP:20260425T020944
CREATED:20260223T100333Z
LAST-MODIFIED:20260223T100333Z
UID:6009-1768150800-1768150800@southmoreland.com
SUMMARY:Manor Records – Songbird Sessions
DESCRIPTION:
URL:https://southmoreland.com/event/manor-records-songbird-sessions-2/
END:VEVENT
BEGIN:VEVENT
DTSTART;TZID=UTC:20260109T180000
DTEND;TZID=UTC:20260109T180000
DTSTAMP:20260425T020944
CREATED:20260223T100333Z
LAST-MODIFIED:20260223T100333Z
UID:6008-1767981600-1767981600@southmoreland.com
SUMMARY:The Ship: Grand Marquis
DESCRIPTION:
URL:https://southmoreland.com/event/the-ship-grand-marquis/
END:VEVENT
BEGIN:VEVENT
DTSTART;TZID=UTC:20260104T170000
DTEND;TZID=UTC:20260104T170000
DTSTAMP:20260425T020944
CREATED:20260223T100332Z
LAST-MODIFIED:20260223T100332Z
UID:6007-1767546000-1767546000@southmoreland.com
SUMMARY:Manor Records – Songbird Sessions
DESCRIPTION:
URL:https://southmoreland.com/event/manor-records-songbird-sessions/
END:VEVENT
BEGIN:VEVENT
DTSTART;TZID=UTC:20260103T100000
DTEND;TZID=UTC:20260103T100000
DTSTAMP:20260425T020944
CREATED:20260223T100332Z
LAST-MODIFIED:20260223T100332Z
UID:6006-1767434400-1767434400@southmoreland.com
SUMMARY:First Saturdays in the West Bottoms
DESCRIPTION:
URL:https://southmoreland.com/event/first-saturdays-in-the-west-bottoms/
END:VEVENT
BEGIN:VEVENT
DTSTART;TZID=UTC:20260102T180000
DTEND;TZID=UTC:20260102T180000
DTSTAMP:20260425T020944
CREATED:20260223T100332Z
LAST-MODIFIED:20260223T100332Z
UID:6005-1767376800-1767376800@southmoreland.com
SUMMARY:Crossroads First Fridays
DESCRIPTION:
URL:https://southmoreland.com/event/crossroads-first-fridays/
END:VEVENT
END:VCALENDAR