BEGIN:VCALENDAR
VERSION:2.0
PRODID:-//Southmoreland on the Plaza - ECPv6.15.20//NONSGML v1.0//EN
CALSCALE:GREGORIAN
METHOD:PUBLISH
X-ORIGINAL-URL:https://southmoreland.com
X-WR-CALDESC:Events for Southmoreland on the Plaza
REFRESH-INTERVAL;VALUE=DURATION:PT1H
X-Robots-Tag:noindex
X-PUBLISHED-TTL:PT1H
BEGIN:VTIMEZONE
TZID:UTC
BEGIN:STANDARD
TZOFFSETFROM:+0000
TZOFFSETTO:+0000
TZNAME:UTC
DTSTART:20250101T000000
END:STANDARD
END:VTIMEZONE
BEGIN:VEVENT
DTSTART;TZID=UTC:20260716T180000
DTEND;TZID=UTC:20260716T180000
DTSTAMP:20260425T003112
CREATED:20260223T100502Z
LAST-MODIFIED:20260223T100502Z
UID:6071-1784224800-1784224800@southmoreland.com
SUMMARY:Third Thursday at the Nelson-Atkins Museum of Art
DESCRIPTION:
URL:https://southmoreland.com/event/third-thursday-at-the-nelson-atkins-museum-of-art-7/
END:VEVENT
BEGIN:VEVENT
DTSTART;TZID=UTC:20260718T183000
DTEND;TZID=UTC:20260718T183000
DTSTAMP:20260425T003112
CREATED:20260223T100523Z
LAST-MODIFIED:20260223T100523Z
UID:6072-1784399400-1784399400@southmoreland.com
SUMMARY:Grinders KC: KALEO - Way Down We Go Tour
DESCRIPTION:
URL:https://southmoreland.com/event/grinders-kc-kaleo-way-down-we-go-tour/
END:VEVENT
BEGIN:VEVENT
DTSTART;TZID=UTC:20260719T170000
DTEND;TZID=UTC:20260719T170000
DTSTAMP:20260425T003112
CREATED:20260223T100524Z
LAST-MODIFIED:20260223T100524Z
UID:6073-1784480400-1784480400@southmoreland.com
SUMMARY:Manor Records – Songbird Sessions
DESCRIPTION:
URL:https://southmoreland.com/event/manor-records-songbird-sessions-29/
END:VEVENT
BEGIN:VEVENT
DTSTART;TZID=UTC:20260726T170000
DTEND;TZID=UTC:20260726T170000
DTSTAMP:20260425T003112
CREATED:20260223T100524Z
LAST-MODIFIED:20260223T100524Z
UID:6074-1785085200-1785085200@southmoreland.com
SUMMARY:Manor Records – Songbird Sessions
DESCRIPTION:
URL:https://southmoreland.com/event/manor-records-songbird-sessions-30/
END:VEVENT
BEGIN:VEVENT
DTSTART;TZID=UTC:20260801T100000
DTEND;TZID=UTC:20260801T100000
DTSTAMP:20260425T003112
CREATED:20260223T100525Z
LAST-MODIFIED:20260223T100525Z
UID:6075-1785578400-1785578400@southmoreland.com
SUMMARY:First Saturdays in the West Bottoms
DESCRIPTION:
URL:https://southmoreland.com/event/first-saturdays-in-the-west-bottoms-8/
END:VEVENT
BEGIN:VEVENT
DTSTART;TZID=UTC:20260802T170000
DTEND;TZID=UTC:20260802T170000
DTSTAMP:20260425T003112
CREATED:20260223T100525Z
LAST-MODIFIED:20260223T100525Z
UID:6076-1785690000-1785690000@southmoreland.com
SUMMARY:Manor Records – Songbird Sessions
DESCRIPTION:
URL:https://southmoreland.com/event/manor-records-songbird-sessions-31/
END:VEVENT
BEGIN:VEVENT
DTSTART;TZID=UTC:20260807T180000
DTEND;TZID=UTC:20260807T180000
DTSTAMP:20260425T003112
CREATED:20260223T100556Z
LAST-MODIFIED:20260223T100556Z
UID:6077-1786125600-1786125600@southmoreland.com
SUMMARY:Crossroads First Fridays
DESCRIPTION:
URL:https://southmoreland.com/event/crossroads-first-fridays-8/
END:VEVENT
BEGIN:VEVENT
DTSTART;TZID=UTC:20260809T170000
DTEND;TZID=UTC:20260809T170000
DTSTAMP:20260425T003112
CREATED:20260223T100556Z
LAST-MODIFIED:20260223T100556Z
UID:6078-1786294800-1786294800@southmoreland.com
SUMMARY:Manor Records – Songbird Sessions
DESCRIPTION:
URL:https://southmoreland.com/event/manor-records-songbird-sessions-32/
END:VEVENT
BEGIN:VEVENT
DTSTART;TZID=UTC:20260816T170000
DTEND;TZID=UTC:20260816T170000
DTSTAMP:20260425T003112
CREATED:20260223T100556Z
LAST-MODIFIED:20260223T100556Z
UID:6079-1786899600-1786899600@southmoreland.com
SUMMARY:Manor Records – Songbird Sessions
DESCRIPTION:
URL:https://southmoreland.com/event/manor-records-songbird-sessions-33/
END:VEVENT
BEGIN:VEVENT
DTSTART;TZID=UTC:20260820T180000
DTEND;TZID=UTC:20260820T180000
DTSTAMP:20260425T003112
CREATED:20260223T100557Z
LAST-MODIFIED:20260223T100557Z
UID:6080-1787248800-1787248800@southmoreland.com
SUMMARY:Third Thursday at the Nelson-Atkins Museum of Art
DESCRIPTION:
URL:https://southmoreland.com/event/third-thursday-at-the-nelson-atkins-museum-of-art-8/
END:VEVENT
BEGIN:VEVENT
DTSTART;TZID=UTC:20260823T170000
DTEND;TZID=UTC:20260823T170000
DTSTAMP:20260425T003112
CREATED:20260223T100557Z
LAST-MODIFIED:20260223T100557Z
UID:6081-1787504400-1787504400@southmoreland.com
SUMMARY:Manor Records – Songbird Sessions
DESCRIPTION:
URL:https://southmoreland.com/event/manor-records-songbird-sessions-34/
END:VEVENT
BEGIN:VEVENT
DTSTART;TZID=UTC:20260824T000000
DTEND;TZID=UTC:20260824T000000
DTSTAMP:20260425T003112
CREATED:20260223T100303Z
LAST-MODIFIED:20260223T100303Z
UID:5990-1787529600-1787529600@southmoreland.com
SUMMARY:UMKC Fall Semester Begins
DESCRIPTION:
URL:https://southmoreland.com/event/umkc-fall-semester-begins/
END:VEVENT
BEGIN:VEVENT
DTSTART;TZID=UTC:20260825T000000
DTEND;TZID=UTC:20260825T000000
DTSTAMP:20260425T003112
CREATED:20260223T100303Z
LAST-MODIFIED:20260223T100303Z
UID:5991-1787616000-1787616000@southmoreland.com
SUMMARY:Kansas City Art Institute – Fall Exhibitions Begin
DESCRIPTION:
URL:https://southmoreland.com/event/kansas-city-art-institute-fall-exhibitions-begin/
END:VEVENT
BEGIN:VEVENT
DTSTART;TZID=UTC:20260830T170000
DTEND;TZID=UTC:20260830T170000
DTSTAMP:20260425T003112
CREATED:20260223T100558Z
LAST-MODIFIED:20260223T100558Z
UID:6082-1788109200-1788109200@southmoreland.com
SUMMARY:Manor Records – Songbird Sessions
DESCRIPTION:
URL:https://southmoreland.com/event/manor-records-songbird-sessions-35/
END:VEVENT
BEGIN:VEVENT
DTSTART;TZID=UTC:20260904T000000
DTEND;TZID=UTC:20260904T000000
DTSTAMP:20260425T003112
CREATED:20260223T100315Z
LAST-MODIFIED:20260223T100315Z
UID:5997-1788480000-1788480000@southmoreland.com
SUMMARY:Kansas City Irish Fest (Sep 4–6)
DESCRIPTION:
URL:https://southmoreland.com/event/kansas-city-irish-fest-sep-4-6/
END:VEVENT
BEGIN:VEVENT
DTSTART;TZID=UTC:20260904T180000
DTEND;TZID=UTC:20260904T180000
DTSTAMP:20260425T003112
CREATED:20260223T100559Z
LAST-MODIFIED:20260223T100559Z
UID:6083-1788544800-1788544800@southmoreland.com
SUMMARY:Crossroads First Fridays
DESCRIPTION:
URL:https://southmoreland.com/event/crossroads-first-fridays-9/
END:VEVENT
BEGIN:VEVENT
DTSTART;TZID=UTC:20260905T000000
DTEND;TZID=UTC:20260905T000000
DTSTAMP:20260425T003112
CREATED:20260223T100316Z
LAST-MODIFIED:20260223T100316Z
UID:5998-1788566400-1788566400@southmoreland.com
SUMMARY:Kansas City Renaissance Festival Opens
DESCRIPTION:
URL:https://southmoreland.com/event/kansas-city-renaissance-festival-opens/
END:VEVENT
BEGIN:VEVENT
DTSTART;TZID=UTC:20260905T100000
DTEND;TZID=UTC:20260905T100000
DTSTAMP:20260425T003112
CREATED:20260223T100559Z
LAST-MODIFIED:20260223T100559Z
UID:6084-1788602400-1788602400@southmoreland.com
SUMMARY:First Saturdays in the West Bottoms
DESCRIPTION:
URL:https://southmoreland.com/event/first-saturdays-in-the-west-bottoms-9/
END:VEVENT
BEGIN:VEVENT
DTSTART;TZID=UTC:20260906T170000
DTEND;TZID=UTC:20260906T170000
DTSTAMP:20260425T003112
CREATED:20260223T100559Z
LAST-MODIFIED:20260223T100559Z
UID:6085-1788714000-1788714000@southmoreland.com
SUMMARY:Manor Records – Songbird Sessions
DESCRIPTION:
URL:https://southmoreland.com/event/manor-records-songbird-sessions-36/
END:VEVENT
BEGIN:VEVENT
DTSTART;TZID=UTC:20260911T000000
DTEND;TZID=UTC:20260911T000000
DTSTAMP:20260425T003112
CREATED:20260223T100316Z
LAST-MODIFIED:20260223T100316Z
UID:5999-1789084800-1789084800@southmoreland.com
SUMMARY:Art Westport (Sep 11–13)
DESCRIPTION:
URL:https://southmoreland.com/event/art-westport-sep-11-13/
END:VEVENT
BEGIN:VEVENT
DTSTART;TZID=UTC:20260913T170000
DTEND;TZID=UTC:20260913T170000
DTSTAMP:20260425T003112
CREATED:20260223T100559Z
LAST-MODIFIED:20260223T100559Z
UID:6086-1789318800-1789318800@southmoreland.com
SUMMARY:Manor Records – Songbird Sessions
DESCRIPTION:
URL:https://southmoreland.com/event/manor-records-songbird-sessions-37/
END:VEVENT
BEGIN:VEVENT
DTSTART;TZID=UTC:20260917T180000
DTEND;TZID=UTC:20260917T180000
DTSTAMP:20260425T003112
CREATED:20260223T100602Z
LAST-MODIFIED:20260223T100602Z
UID:6087-1789668000-1789668000@southmoreland.com
SUMMARY:Third Thursday at the Nelson-Atkins Museum of Art
DESCRIPTION:
URL:https://southmoreland.com/event/third-thursday-at-the-nelson-atkins-museum-of-art-9/
END:VEVENT
BEGIN:VEVENT
DTSTART;TZID=UTC:20260920T170000
DTEND;TZID=UTC:20260920T170000
DTSTAMP:20260425T003112
CREATED:20260223T100603Z
LAST-MODIFIED:20260223T100603Z
UID:6088-1789923600-1789923600@southmoreland.com
SUMMARY:Manor Records – Songbird Sessions
DESCRIPTION:
URL:https://southmoreland.com/event/manor-records-songbird-sessions-38/
END:VEVENT
BEGIN:VEVENT
DTSTART;TZID=UTC:20260925T000000
DTEND;TZID=UTC:20260925T000000
DTSTAMP:20260425T003112
CREATED:20260223T100317Z
LAST-MODIFIED:20260223T100317Z
UID:6000-1790294400-1790294400@southmoreland.com
SUMMARY:Plaza Art Fair (Sep 25–27)
DESCRIPTION:
URL:https://southmoreland.com/event/plaza-art-fair-sep-25-27/
END:VEVENT
BEGIN:VEVENT
DTSTART;TZID=UTC:20260927T000000
DTEND;TZID=UTC:20260927T000000
DTSTAMP:20260425T003112
CREATED:20260223T100318Z
LAST-MODIFIED:20260223T100318Z
UID:6001-1790467200-1790467200@southmoreland.com
SUMMARY:NASCAR Fall Race (Kansas Speedway)
DESCRIPTION:
URL:https://southmoreland.com/event/nascar-fall-race-kansas-speedway/
END:VEVENT
BEGIN:VEVENT
DTSTART;TZID=UTC:20260927T170000
DTEND;TZID=UTC:20260927T170000
DTSTAMP:20260425T003112
CREATED:20260223T100603Z
LAST-MODIFIED:20260223T100603Z
UID:6089-1790528400-1790528400@southmoreland.com
SUMMARY:Manor Records – Songbird Sessions
DESCRIPTION:
URL:https://southmoreland.com/event/manor-records-songbird-sessions-39/
END:VEVENT
BEGIN:VEVENT
DTSTART;TZID=UTC:20261002T180000
DTEND;TZID=UTC:20261002T180000
DTSTAMP:20260425T003112
CREATED:20260223T100604Z
LAST-MODIFIED:20260223T100604Z
UID:6090-1790964000-1790964000@southmoreland.com
SUMMARY:Crossroads First Fridays
DESCRIPTION:
URL:https://southmoreland.com/event/crossroads-first-fridays-10/
END:VEVENT
BEGIN:VEVENT
DTSTART;TZID=UTC:20261003T100000
DTEND;TZID=UTC:20261003T100000
DTSTAMP:20260425T003112
CREATED:20260223T100604Z
LAST-MODIFIED:20260223T100604Z
UID:6091-1791021600-1791021600@southmoreland.com
SUMMARY:First Saturdays in the West Bottoms
DESCRIPTION:
URL:https://southmoreland.com/event/first-saturdays-in-the-west-bottoms-10/
END:VEVENT
BEGIN:VEVENT
DTSTART;TZID=UTC:20261004T170000
DTEND;TZID=UTC:20261004T170000
DTSTAMP:20260425T003112
CREATED:20260223T100608Z
LAST-MODIFIED:20260223T100608Z
UID:6092-1791133200-1791133200@southmoreland.com
SUMMARY:Manor Records – Songbird Sessions
DESCRIPTION:
URL:https://southmoreland.com/event/manor-records-songbird-sessions-40/
END:VEVENT
BEGIN:VEVENT
DTSTART;TZID=UTC:20261011T170000
DTEND;TZID=UTC:20261011T170000
DTSTAMP:20260425T003112
CREATED:20260223T100608Z
LAST-MODIFIED:20260223T100608Z
UID:6093-1791738000-1791738000@southmoreland.com
SUMMARY:Manor Records – Songbird Sessions
DESCRIPTION:
URL:https://southmoreland.com/event/manor-records-songbird-sessions-41/
END:VEVENT
END:VCALENDAR