BEGIN:VCALENDAR
VERSION:2.0
PRODID:-//Southmoreland on the Plaza - ECPv6.15.20//NONSGML v1.0//EN
CALSCALE:GREGORIAN
METHOD:PUBLISH
X-ORIGINAL-URL:https://southmoreland.com
X-WR-CALDESC:Events for Southmoreland on the Plaza
REFRESH-INTERVAL;VALUE=DURATION:PT1H
X-Robots-Tag:noindex
X-PUBLISHED-TTL:PT1H
BEGIN:VTIMEZONE
TZID:UTC
BEGIN:STANDARD
TZOFFSETFROM:+0000
TZOFFSETTO:+0000
TZNAME:UTC
DTSTART:20250101T000000
END:STANDARD
END:VTIMEZONE
BEGIN:VEVENT
DTSTART;TZID=UTC:20260605T180000
DTEND;TZID=UTC:20260605T180000
DTSTAMP:20260424T211824
CREATED:20260223T100446Z
LAST-MODIFIED:20260223T100446Z
UID:6060-1780682400-1780682400@southmoreland.com
SUMMARY:Crossroads First Fridays
DESCRIPTION:
URL:https://southmoreland.com/event/crossroads-first-fridays-6/
END:VEVENT
BEGIN:VEVENT
DTSTART;TZID=UTC:20260606T100000
DTEND;TZID=UTC:20260606T100000
DTSTAMP:20260424T211824
CREATED:20260223T100446Z
LAST-MODIFIED:20260223T100446Z
UID:6061-1780740000-1780740000@southmoreland.com
SUMMARY:First Saturdays in the West Bottoms
DESCRIPTION:
URL:https://southmoreland.com/event/first-saturdays-in-the-west-bottoms-6/
END:VEVENT
BEGIN:VEVENT
DTSTART;TZID=UTC:20260607T170000
DTEND;TZID=UTC:20260607T170000
DTSTAMP:20260424T211824
CREATED:20260223T100449Z
LAST-MODIFIED:20260223T100449Z
UID:6062-1780851600-1780851600@southmoreland.com
SUMMARY:Manor Records – Songbird Sessions
DESCRIPTION:
URL:https://southmoreland.com/event/manor-records-songbird-sessions-23/
END:VEVENT
BEGIN:VEVENT
DTSTART;TZID=UTC:20260612T000000
DTEND;TZID=UTC:20260612T000000
DTSTAMP:20260424T211824
CREATED:20260223T100301Z
LAST-MODIFIED:20260223T100301Z
UID:5987-1781222400-1781222400@southmoreland.com
SUMMARY:Kansas City PrideFest (Jun 12–14)
DESCRIPTION:
URL:https://southmoreland.com/event/kansas-city-pridefest-jun-12-14/
END:VEVENT
BEGIN:VEVENT
DTSTART;TZID=UTC:20260614T000000
DTEND;TZID=UTC:20260614T000000
DTSTAMP:20260424T211824
CREATED:20260223T100302Z
LAST-MODIFIED:20260223T100302Z
UID:5988-1781395200-1781395200@southmoreland.com
SUMMARY:Future Stages Festival – Kauffman Center
DESCRIPTION:
URL:https://southmoreland.com/event/future-stages-festival-kauffman-center/
END:VEVENT
BEGIN:VEVENT
DTSTART;TZID=UTC:20260614T170000
DTEND;TZID=UTC:20260614T170000
DTSTAMP:20260424T211824
CREATED:20260223T100450Z
LAST-MODIFIED:20260223T100450Z
UID:6063-1781456400-1781456400@southmoreland.com
SUMMARY:Manor Records – Songbird Sessions
DESCRIPTION:
URL:https://southmoreland.com/event/manor-records-songbird-sessions-24/
END:VEVENT
BEGIN:VEVENT
DTSTART;TZID=UTC:20260616T000000
DTEND;TZID=UTC:20260616T000000
DTSTAMP:20260424T211824
CREATED:20260223T100302Z
LAST-MODIFIED:20260223T100302Z
UID:5989-1781568000-1781568000@southmoreland.com
SUMMARY:Heart of America Shakespeare Festival (Jun 16–Jul 5)
DESCRIPTION:
URL:https://southmoreland.com/event/heart-of-america-shakespeare-festival-jun-16-jul-5/
END:VEVENT
BEGIN:VEVENT
DTSTART;TZID=UTC:20260618T180000
DTEND;TZID=UTC:20260618T180000
DTSTAMP:20260424T211824
CREATED:20260223T100451Z
LAST-MODIFIED:20260223T100451Z
UID:6064-1781805600-1781805600@southmoreland.com
SUMMARY:Third Thursday at the Nelson-Atkins Museum of Art
DESCRIPTION:
URL:https://southmoreland.com/event/third-thursday-at-the-nelson-atkins-museum-of-art-6/
END:VEVENT
BEGIN:VEVENT
DTSTART;TZID=UTC:20260621T170000
DTEND;TZID=UTC:20260621T170000
DTSTAMP:20260424T211824
CREATED:20260223T100451Z
LAST-MODIFIED:20260223T100451Z
UID:6065-1782061200-1782061200@southmoreland.com
SUMMARY:Manor Records – Songbird Sessions
DESCRIPTION:
URL:https://southmoreland.com/event/manor-records-songbird-sessions-25/
END:VEVENT
BEGIN:VEVENT
DTSTART;TZID=UTC:20260628T170000
DTEND;TZID=UTC:20260628T170000
DTSTAMP:20260424T211824
CREATED:20260223T100452Z
LAST-MODIFIED:20260223T100452Z
UID:6066-1782666000-1782666000@southmoreland.com
SUMMARY:Manor Records – Songbird Sessions
DESCRIPTION:
URL:https://southmoreland.com/event/manor-records-songbird-sessions-26/
END:VEVENT
END:VCALENDAR